Workbook
Name Con_2020_Escalation: 'I2 Escalation factors'!$G$12
Name Con_2021_Escalation: 'I2 Escalation factors'!$G$13
Name Con2_Traffic_Mgmt_Lookup: Con2_CostAllowances!$G$3:$H$6
Name HistoricConstructEscalation: 'I2 Escalation factors'!$A$17:$D$18
Name I1_CurrentYear: 'I1 Assumptions'!$F$8
Name I1_Traffic_Mgmt_Lookup: 'I1 Assumptions'!$C$27:$D$30
Name I10_RenewalProject: I10_Renewals!$A$4:$A$60
Name I10_RenewalRate: I10_Renewals!$O$4:$O$60
Name I2_Const_Escal: 'I2 Escalation factors'!$A$3:$AR$5
Name I2_LandPriceEscalation: 'I2 Escalation factors'!$A$3:$AR$8
Name I2_LndPrcYearLkUP: 'I2 Escalation factors'!$A$3:$AR$3
Name I2_LndPrice_Lkup: 'I2 Escalation factors'!$A$3:$A$8
Name I2_LndPriceEsclrate: 'I2 Escalation factors'!$A$48:$AR$49
Name I2_LndPriceEscrate: 'I2 Escalation factors'!$A$7:$AR$8
Name I6_CurrentYear_DevStagePrice: 'I6 Land price model'!$F$4:$F$25
Name I6_CurrentYearDevStagePrice: 'I6 Land price model'!$F$4:$F$16
Name I6_DevelopmentArea: 'I6 Land price model'!$B$4:$B$25
Name I6_LandPriceModelYear: 'I6 Land price model'!$B$4:$AR$4
Name I6_UnescLandPriceModel: 'I6 Land price model'!$B$4:$AR$25
Name I9_AltPricePercent: I9_AlternativePricing!$D$4:$D$12
Name I9_AltPriceProperties: I9_AlternativePricing!$A$4:$A$12
Name I9_StandardPricePercent: I9_AlternativePricing!$E$4:$E$12
Name Land_2021_Escalation: 'I2 Escalation factors'!$G$14
Name Land_RID_Escalation: 'I2 Escalation factors'!$B$20
Name LandZoneEscalated: '[1]Land zone costs'!$B$32:$AR$48
Name LandZoneEscalated: '[1]Land zone costs'!$B$32:$AR$48
Name LandZoneEscalated: '[1]Land zone costs'!$B$32:$AR$48
Name LandZoneEscalated: '[2]Land zone costs'!$B$32:$AR$48
Name LandZoneUnescalated: '[1]Land zone costs'!$B$5:$AR$20
Name LandZoneUnescalated: '[1]Land zone costs'!$B$5:$AR$20
Name LandZoneUnescalated: '[1]Land zone costs'!$B$5:$AR$20
Name LandZoneUnescalated: '[2]Land zone costs'!$B$5:$AR$20
Name xxx: '[1]Land zone costs'!$B$5:$AR$20
Name xxxx: '[1]Land zone costs'!$B$32:$AR$48

Sheet Schematic

Sheet Project_Summary
F1: =SUMIFS(Lnd6_Proj_Prop_map!Z:Z,Lnd6_Proj_Prop_map!A:A,A11)/1.3 -> 0
A4: Project ID | B4: Project Number | C4: Project name | D4: Project description | E4: Include in DCs? | F4: Corridor Type | G4: Construction year | H4: Land Aqusition/Lease Cost (incl transaction costs) | I4: Contingency | J4: Land Cost Escalation due to Development Stage | K4: Land Price Escalation | L4: Total Property Cost | M4: Share of Property costs to expected to be provided through Mitigation | N4: Total Property Cost to be funded through NZTA, DCs and rates | O4: Construction Base Cost | P4: Contingency | Q4: Escalation | R4: Total Construction Costs | S4: Share of construction costs to expected to be provided through Mitigation | T4: Total Construction Cost to be funded through NZTA, DCs and rates | U4: Total project cost before mitigation (Property and Construction) | V4: Total project cost after mitigation (Property and Construction) | W4: Share of construction costs related to AT asset Renewal (these costs are deducted before loading to DC model) | X4: Project costs loaded to DC model before applying NZTA funding and DC growth percentage | Y4: Expected NZTA FAR rate funding | Z4: Level of Servce Share (rates funded) | AA4: Growth Share to be funded by DCs
A5: ="Drury_"&'Total project cost for DCs'!A4 -> Drury_1a | B5: ='Total project cost for DCs'!A4 -> 1a | C5: ='Total project cost for DCs'!B4 -> GSR improvements - Waihoehoe Rd to Drury Interchange | D5: ='Total project cost for DCs'!C4 -> 2-lane urban- existing road layout with active modes on both sides + intersection improvements (TDM) | E5: ='Total project cost for DCs'!D4 -> Exclude | F5: ='Total project cost for DCs'!E4 -> Interim Arterial | G5: ='Total project cost for DCs'!F4 -> 2024 | H5: 0 | I5: 0 | J5: 0 | K5: 0 | L5: 0 | M5: =IF($E5="Include",SUMIFS(Lnd8_Mitigation!AS:AS,Lnd8_Mitigation!A:A,$A5),0) -> 0 | N5: =L5+M5 -> 0 | O5: =IF($E5="Include",Con3_ClientCosts!O5,0) -> 0 | P5: =IF($E5="Include",Con4_Contigency!K5-Con3_ClientCosts!O5,0) -> 0 | Q5: =IF($E5="Include",Con6_EscalatedConst!AP5-Con4_Contigency!K5,0) -> 0 | R5: =O5+P5+Q5 -> 0 | S5: =IF($E5="Include",Con6_Mitigation!AN5-Con6_EscalatedConst!AP5,0) -> 0 | T5: =R5+S5 -> 0 | U5: =+R5+L5 -> 0 | V5: =+T5+N5 -> 0 | W5: =Con7_Renewal!AN5-Con6_Mitigation!AN5 -> 0 | X5: =IF(E5="Include",Prj1_GrowthLOSCost!AR5,0) -> 0 | Y5: =('Total project cost for DCs'!AT4+'Total project cost for DCs'!AU4)*-1 -> 0 | Z5: =+X5-AA5+Y5 -> 0 | AA5: =SUMIFS('LTP_for DC_model'!AG:AG,'LTP_for DC_model'!A:A,B5)+SUMIFS(Beyond_LTP_for_DC_model!AM:AM,Beyond_LTP_for_DC_model!A:A,B5) -> 0
A6: ="Drury_"&'Total project cost for DCs'!A5 -> Drury_1b | B6: ='Total project cost for DCs'!A5 -> 1b | C6: ='Total project cost for DCs'!B5 -> GSR improvements - Waihoehoe Rd to Drury Interchange | D6: ='Total project cost for DCs'!C5 -> 4-lane urban- existing road layout with active modes on both sides + intersection improvements (TDM) | E6: ='Total project cost for DCs'!D5 -> Include | F6: ='Total project cost for DCs'!E5 -> 4-lane arterial | G6: ='Total project cost for DCs'!F5 -> 2031 | H6: 0 | I6: 0 | J6: 0 | K6: 0 | L6: 0 | M6: =IF($E6="Include",SUMIFS(Lnd8_Mitigation!AS:AS,Lnd8_Mitigation!A:A,$A6),0) -> 0 | N6: =L6+M6 -> 0 | O6: =IF($E6="Include",Con3_ClientCosts!O6,0) -> 17505572 | P6: =IF($E6="Include",Con4_Contigency!K6-Con3_ClientCosts!O6,0) -> 8752786.1 | Q6: =IF($E6="Include",Con6_EscalatedConst!AP6-Con4_Contigency!K6,0) -> 5953088.5 | R6: =O6+P6+Q6 -> 32211447 | S6: =IF($E6="Include",Con6_Mitigation!AN6-Con6_EscalatedConst!AP6,0) -> 0 | T6: =R6+S6 -> 32211447 | U6: =+R6+L6 -> 32211447 | V6: =+T6+N6 -> 32211447 | W6: =Con7_Renewal!AN6-Con6_Mitigation!AN6 -> -1243497.8 | X6: =IF(E6="Include",Prj1_GrowthLOSCost!AR6,0) -> 30967949 | Y6: =('Total project cost for DCs'!AT5+'Total project cost for DCs'!AU5)*-1 -> -15793654 | Z6: =+X6-AA6+Y6 -> 2835831.8 | AA6: =SUMIFS('LTP_for DC_model'!AG:AG,'LTP_for DC_model'!A:A,B6)+SUMIFS(Beyond_LTP_for_DC_model!AM:AM,Beyond_LTP_for_DC_model!A:A,B6) -> 12338463
A7: ="Drury_"&'Total project cost for DCs'!A6 -> Drury_2a | B7: ='Total project cost for DCs'!A6 -> 2a | C7: ='Total project cost for DCs'!B6 -> GSR improvements - From Drury School to Waihoehoe Rd | D7: ='Total project cost for DCs'!C6 -> 2-lane urban- existing road layout with active modes on both sides + intersection improvements (TDM) | E7: ='Total project cost for DCs'!D6 -> Include | F7: ='Total project cost for DCs'!E6 -> Interim Arterial | G7: ='Total project cost for DCs'!F6 -> 2030 | H7: 0 | I7: 0 | J7: 0 | K7: 0 | L7: 0 | M7: =IF($E7="Include",SUMIFS(Lnd8_Mitigation!AS:AS,Lnd8_Mitigation!A:A,$A7),0) -> 0 | N7: =L7+M7 -> 0 | O7: =IF($E7="Include",Con3_ClientCosts!O7,0) -> 5192565.3 | P7: =IF($E7="Include",Con4_Contigency!K7-Con3_ClientCosts!O7,0) -> 2596282.6 | Q7: =IF($E7="Include",Con6_EscalatedConst!AP7-Con4_Contigency!K7,0) -> 1478537.4 | R7: =O7+P7+Q7 -> 9267385.3 | S7: =IF($E7="Include",Con6_Mitigation!AN7-Con6_EscalatedConst!AP7,0) -> 0 | T7: =R7+S7 -> 9267385.3 | U7: =+R7+L7 -> 9267385.3 | V7: =+T7+N7 -> 9267385.3 | W7: =Con7_Renewal!AN7-Con6_Mitigation!AN7 -> -692685.18 | X7: =IF(E7="Include",Prj1_GrowthLOSCost!AR7,0) -> 8574700.2 | Y7: =('Total project cost for DCs'!AT6+'Total project cost for DCs'!AU6)*-1 -> -4373097.1 | Z7: =+X7-AA7+Y7 -> 854922.54 | AA7: =SUMIFS('LTP_for DC_model'!AG:AG,'LTP_for DC_model'!A:A,B7)+SUMIFS(Beyond_LTP_for_DC_model!AM:AM,Beyond_LTP_for_DC_model!A:A,B7) -> 3346680.5
A8: ="Drury_"&'Total project cost for DCs'!A7 -> Drury_2b | B8: ='Total project cost for DCs'!A7 -> 2b | C8: ='Total project cost for DCs'!B7 -> GSR improvements - From Drury School to Waihoehoe Rd | D8: ='Total project cost for DCs'!C7 -> 4-lane urban- existing road layout with active modes on both sides + intersection improvements (TDM) | E8: ='Total project cost for DCs'!D7 -> Exclude - NZTA | F8: ='Total project cost for DCs'!E7 -> 4-lane arterial | G8: ='Total project cost for DCs'!F7 -> 2040 | H8: 0 | I8: 0 | J8: 0 | K8: 0 | L8: 0 | M8: =IF($E8="Include",SUMIFS(Lnd8_Mitigation!AS:AS,Lnd8_Mitigation!A:A,$A8),0) -> 0 | N8: =L8+M8 -> 0 | O8: =IF($E8="Include",Con3_ClientCosts!O8,0) -> 0 | P8: =IF($E8="Include",Con4_Contigency!K8-Con3_ClientCosts!O8,0) -> 0 | Q8: =IF($E8="Include",Con6_EscalatedConst!AP8-Con4_Contigency!K8,0) -> 0 | R8: =O8+P8+Q8 -> 0 | S8: =IF($E8="Include",Con6_Mitigation!AN8-Con6_EscalatedConst!AP8,0) -> 0 | T8: =R8+S8 -> 0 | U8: =+R8+L8 -> 0 | V8: =+T8+N8 -> 0 | W8: =Con7_Renewal!AN8-Con6_Mitigation!AN8 -> 0 | X8: =IF(E8="Include",Prj1_GrowthLOSCost!AR8,0) -> 0 | Y8: =('Total project cost for DCs'!AT7+'Total project cost for DCs'!AU7)*-1 -> 0 | Z8: =+X8-AA8+Y8 -> 0 | AA8: =SUMIFS('LTP_for DC_model'!AG:AG,'LTP_for DC_model'!A:A,B8)+SUMIFS(Beyond_LTP_for_DC_model!AM:AM,Beyond_LTP_for_DC_model!A:A,B8) -> 0
A9: ="Drury_"&'Total project cost for DCs'!A8 -> Drury_3 | B9: ='Total project cost for DCs'!A8 -> 3 | C9: ='Total project cost for DCs'!B8 -> Intersection upgrade on GSR/Karaka Rd intersection | D9: ='Total project cost for DCs'!C8 -> Intersection upgrades- existing intersection with active modes crossings (TDM) | E9: ='Total project cost for DCs'!D8 -> Exclude - NZTA | F9: ='Total project cost for DCs'!E8 -> 4-lane arterial | G9: ='Total project cost for DCs'!F8 -> 2026 | H9: 0 | I9: 0 | J9: 0 | K9: 0 | L9: 0 | M9: =IF($E9="Include",SUMIFS(Lnd8_Mitigation!AS:AS,Lnd8_Mitigation!A:A,$A9),0) -> 0 | N9: =L9+M9 -> 0 | O9: =IF($E9="Include",Con3_ClientCosts!O9,0) -> 0 | P9: =IF($E9="Include",Con4_Contigency!K9-Con3_ClientCosts!O9,0) -> 0 | Q9: =IF($E9="Include",Con6_EscalatedConst!AP9-Con4_Contigency!K9,0) -> 0 | R9: =O9+P9+Q9 -> 0 | S9: =IF($E9="Include",Con6_Mitigation!AN9-Con6_EscalatedConst!AP9,0) -> 0 | T9: =R9+S9 -> 0 | U9: =+R9+L9 -> 0 | V9: =+T9+N9 -> 0 | W9: =Con7_Renewal!AN9-Con6_Mitigation!AN9 -> 0 | X9: =IF(E9="Include",Prj1_GrowthLOSCost!AR9,0) -> 0 | Y9: =('Total project cost for DCs'!AT8+'Total project cost for DCs'!AU8)*-1 -> 0 | Z9: =+X9-AA9+Y9 -> 0 | AA9: =SUMIFS('LTP_for DC_model'!AG:AG,'LTP_for DC_model'!A:A,B9)+SUMIFS(Beyond_LTP_for_DC_model!AM:AM,Beyond_LTP_for_DC_model!A:A,B9) -> 0
A10: ="Drury_"&'Total project cost for DCs'!A9 -> Drury_4a | B10: ='Total project cost for DCs'!A9 -> 4a | C10: ='Total project cost for DCs'!B9 -> Waihoehoe Rd East upgrades- from Fitzgerald Rd to before Cossey Rd (development boundary) | D10: ='Total project cost for DCs'!C9 -> 2-lane urban - upgrade existing road layout with active modes on both sides, 20m cross-section | E10: ='Total project cost for DCs'!D9 -> Exclude | F10: ='Total project cost for DCs'!E9 -> 0 | G10: ='Total project cost for DCs'!F9 -> 0 | H10: 0 | I10: 0 | J10: 0 | K10: 0 | L10: 0 | M10: =IF($E10="Include",SUMIFS(Lnd8_Mitigation!AS:AS,Lnd8_Mitigation!A:A,$A10),0) -> 0 | N10: =L10+M10 -> 0 | O10: =IF($E10="Include",Con3_ClientCosts!O10,0) -> 0 | P10: =IF($E10="Include",Con4_Contigency!K10-Con3_ClientCosts!O10,0) -> 0 | Q10: =IF($E10="Include",Con6_EscalatedConst!AP10-Con4_Contigency!K10,0) -> 0 | R10: =O10+P10+Q10 -> 0 | S10: =IF($E10="Include",Con6_Mitigation!AN10-Con6_EscalatedConst!AP10,0) -> 0 | T10: =R10+S10 -> 0 | U10: =+R10+L10 -> 0 | V10: =+T10+N10 -> 0 | W10: =Con7_Renewal!AN10-Con6_Mitigation!AN10 -> 0 | X10: =IF(E10="Include",Prj1_GrowthLOSCost!AR10,0) -> 0 | Y10: =('Total project cost for DCs'!AT9+'Total project cost for DCs'!AU9)*-1 -> 0 | Z10: =+X10-AA10+Y10 -> 0 | AA10: =SUMIFS('LTP_for DC_model'!AG:AG,'LTP_for DC_model'!A:A,B10)+SUMIFS(Beyond_LTP_for_DC_model!AM:AM,Beyond_LTP_for_DC_model!A:A,B10) -> 0
A11: ="Drury_"&'Total project cost for DCs'!A10 -> Drury_4b | B11: ='Total project cost for DCs'!A10 -> 4b | C11: ='Total project cost for DCs'!B10 -> Waihoehoe Rd East upgrades- from Fitzgerald Rd to before Cossey Rd (development boundary) | D11: ='Total project cost for DCs'!C10 -> Expand to 24m cross section | E11: ='Total project cost for DCs'!D10 -> Include | F11: ='Total project cost for DCs'!E10 -> 2-lane Arterial | G11: ='Total project cost for DCs'!F10 -> 2029 | H11: 2615580.6 | I11: 784674.18 | J11: 9751.56 | K11: 515171.33 | L11: 3925177.7 | M11: =IF($E11="Include",SUMIFS(Lnd8_Mitigation!AS:AS,Lnd8_Mitigation!A:A,$A11),0) -> -1177553.3 | N11: =L11+M11 -> 2747624.4 | O11: =IF($E11="Include",Con3_ClientCosts!O11,0) -> 21933542 | P11: =IF($E11="Include",Con4_Contigency!K11-Con3_ClientCosts!O11,0) -> 10966771 | Q11: =IF($E11="Include",Con6_EscalatedConst!AP11-Con4_Contigency!K11,0) -> 5068354.9 | R11: =O11+P11+Q11 -> 37968667 | S11: =IF($E11="Include",Con6_Mitigation!AN11-Con6_EscalatedConst!AP11,0) -> -30374934 | T11: =R11+S11 -> 7593733.5 | U11: =+R11+L11 -> 41893845 | V11: =+T11+N11 -> 10341358 | W11: =Con7_Renewal!AN11-Con6_Mitigation!AN11 -> -524622.88 | X11: =IF(E11="Include",Prj1_GrowthLOSCost!AR11,0) -> 9816734.7 | Y11: =('Total project cost for DCs'!AT10+'Total project cost for DCs'!AU10)*-1 -> -5006534.8 | Z11: =+X11-AA11+Y11 -> 376427.07 | AA11: =SUMIFS('LTP_for DC_model'!AG:AG,'LTP_for DC_model'!A:A,B11)+SUMIFS(Beyond_LTP_for_DC_model!AM:AM,Beyond_LTP_for_DC_model!A:A,B11) -> 4433772.8
A12: ="Drury_"&'Total project cost for DCs'!A11 -> Drury_4 | B12: ='Total project cost for DCs'!A11 -> 4 | C12: ='Total project cost for DCs'!B11 -> Waihoehoe Rd East upgrades- from Fitzgerald Rd to before Cossey Rd (development boundary) | D12: ='Total project cost for DCs'!C11 -> Construct Ultimate 24m Cross section initially (i.e. no interim stage) | E12: ='Total project cost for DCs'!D11 -> Exclude | F12: ='Total project cost for DCs'!E11 -> 2-lane Arterial | G12: ='Total project cost for DCs'!F11 -> 0 | H12: 0 | I12: 0 | J12: 0 | K12: 0 | L12: 0 | M12: =IF($E12="Include",SUMIFS(Lnd8_Mitigation!AS:AS,Lnd8_Mitigation!A:A,$A12),0) -> 0 | N12: =L12+M12 -> 0 | O12: =IF($E12="Include",Con3_ClientCosts!O12,0) -> 0 | P12: =IF($E12="Include",Con4_Contigency!K12-Con3_ClientCosts!O12,0) -> 0 | Q12: =IF($E12="Include",Con6_EscalatedConst!AP12-Con4_Contigency!K12,0) -> 0 | R12: =O12+P12+Q12 -> 0 | S12: =IF($E12="Include",Con6_Mitigation!AN12-Con6_EscalatedConst!AP12,0) -> 0 | T12: =R12+S12 -> 0 | U12: =+R12+L12 -> 0 | V12: =+T12+N12 -> 0 | W12: =Con7_Renewal!AN12-Con6_Mitigation!AN12 -> 0 | X12: =IF(E12="Include",Prj1_GrowthLOSCost!AR12,0) -> 0 | Y12: =('Total project cost for DCs'!AT11+'Total project cost for DCs'!AU11)*-1 -> 0 | Z12: =+X12-AA12+Y12 -> 0 | AA12: =SUMIFS('LTP_for DC_model'!AG:AG,'LTP_for DC_model'!A:A,B12)+SUMIFS(Beyond_LTP_for_DC_model!AM:AM,Beyond_LTP_for_DC_model!A:A,B12) -> 0
A13: ="Drury_"&'Total project cost for DCs'!A12 -> Drury_5 | B13: ='Total project cost for DCs'!A12 -> 5 | C13: ='Total project cost for DCs'!B12 -> Drury Central Station | D13: ='Total project cost for DCs'!C12 -> Not feasible without access. Refer to item 6 below | E13: ='Total project cost for DCs'!D12 -> Exclude | F13: ='Total project cost for DCs'!E12 -> 0 | G13: ='Total project cost for DCs'!F12 -> 2024 | H13: 0 | I13: 0 | J13: 0 | K13: 0 | L13: 0 | M13: =IF($E13="Include",SUMIFS(Lnd8_Mitigation!AS:AS,Lnd8_Mitigation!A:A,$A13),0) -> 0 | N13: =L13+M13 -> 0 | O13: =IF($E13="Include",Con3_ClientCosts!O13,0) -> 0 | P13: =IF($E13="Include",Con4_Contigency!K13-Con3_ClientCosts!O13,0) -> 0 | Q13: =IF($E13="Include",Con6_EscalatedConst!AP13-Con4_Contigency!K13,0) -> 0 | R13: =O13+P13+Q13 -> 0 | S13: =IF($E13="Include",Con6_Mitigation!AN13-Con6_EscalatedConst!AP13,0) -> 0 | T13: =R13+S13 -> 0 | U13: =+R13+L13 -> 0 | V13: =+T13+N13 -> 0 | W13: =Con7_Renewal!AN13-Con6_Mitigation!AN13 -> 0 | X13: =IF(E13="Include",Prj1_GrowthLOSCost!AR13,0) -> 0 | Y13: =('Total project cost for DCs'!AT12+'Total project cost for DCs'!AU12)*-1 -> 0 | Z13: =+X13-AA13+Y13 -> 0 | AA13: =SUMIFS('LTP_for DC_model'!AG:AG,'LTP_for DC_model'!A:A,B13)+SUMIFS(Beyond_LTP_for_DC_model!AM:AM,Beyond_LTP_for_DC_model!A:A,B13) -> 0
A14: ="Drury_"&'Total project cost for DCs'!A13 -> Drury_6 | B14: ='Total project cost for DCs'!A13 -> 6 | C14: ='Total project cost for DCs'!B13 -> Drury Station Connection+ intersection | D14: ='Total project cost for DCs'!C13 -> NZUP tbc | E14: ='Total project cost for DCs'!D13 -> Exclude | F14: ='Total project cost for DCs'!E13 -> 0 | G14: ='Total project cost for DCs'!F13 -> 2024 | H14: 0 | I14: 0 | J14: 0 | K14: 0 | L14: 0 | M14: =IF($E14="Include",SUMIFS(Lnd8_Mitigation!AS:AS,Lnd8_Mitigation!A:A,$A14),0) -> 0 | N14: =L14+M14 -> 0 | O14: =IF($E14="Include",Con3_ClientCosts!O14,0) -> 0 | P14: =IF($E14="Include",Con4_Contigency!K14-Con3_ClientCosts!O14,0) -> 0 | Q14: =IF($E14="Include",Con6_EscalatedConst!AP14-Con4_Contigency!K14,0) -> 0 | R14: =O14+P14+Q14 -> 0 | S14: =IF($E14="Include",Con6_Mitigation!AN14-Con6_EscalatedConst!AP14,0) -> 0 | T14: =R14+S14 -> 0 | U14: =+R14+L14 -> 0 | V14: =+T14+N14 -> 0 | W14: =Con7_Renewal!AN14-Con6_Mitigation!AN14 -> 0 | X14: =IF(E14="Include",Prj1_GrowthLOSCost!AR14,0) -> 0 | Y14: =('Total project cost for DCs'!AT13+'Total project cost for DCs'!AU13)*-1 -> 0 | Z14: =+X14-AA14+Y14 -> 0 | AA14: =SUMIFS('LTP_for DC_model'!AG:AG,'LTP_for DC_model'!A:A,B14)+SUMIFS(Beyond_LTP_for_DC_model!AM:AM,Beyond_LTP_for_DC_model!A:A,B14) -> 0
A15: ="Drury_"&'Total project cost for DCs'!A14 -> Drury_7 | B15: ='Total project cost for DCs'!A14 -> 7 | C15: ='Total project cost for DCs'!B14 -> Fitzgerald Rd upgrades (from Waihoehoe Rd to development boundary) | D15: ='Total project cost for DCs'!C14 -> 2-lane urban - upgrade existing road layout with active modes on both sides | E15: ='Total project cost for DCs'!D14 -> Include | F15: ='Total project cost for DCs'!E14 -> Upgrade Collector | G15: ='Total project cost for DCs'!F14 -> 2036 | H15: 0 | I15: 0 | J15: 0 | K15: 0 | L15: 0 | M15: =IF($E15="Include",SUMIFS(Lnd8_Mitigation!AS:AS,Lnd8_Mitigation!A:A,$A15),0) -> 0 | N15: =L15+M15 -> 0 | O15: =IF($E15="Include",Con3_ClientCosts!O15,0) -> 5393233.7 | P15: =IF($E15="Include",Con4_Contigency!K15-Con3_ClientCosts!O15,0) -> 2696616.8 | Q15: =IF($E15="Include",Con6_EscalatedConst!AP15-Con4_Contigency!K15,0) -> 3470646 | R15: =O15+P15+Q15 -> 11560496 | S15: =IF($E15="Include",Con6_Mitigation!AN15-Con6_EscalatedConst!AP15,0) -> -10982472 | T15: =R15+S15 -> 578024.82 | U15: =+R15+L15 -> 11560496 | V15: =+T15+N15 -> 578024.82 | W15: =Con7_Renewal!AN15-Con6_Mitigation!AN15 -> 0 | X15: =IF(E15="Include",Prj1_GrowthLOSCost!AR15,0) -> 578024.82 | Y15: =('Total project cost for DCs'!AT14+'Total project cost for DCs'!AU14)*-1 -> 0 | Z15: =+X15-AA15+Y15 -> 25221.647 | AA15: =SUMIFS('LTP_for DC_model'!AG:AG,'LTP_for DC_model'!A:A,B15)+SUMIFS(Beyond_LTP_for_DC_model!AM:AM,Beyond_LTP_for_DC_model!A:A,B15) -> 552803.18
A16: ="Drury_"&'Total project cost for DCs'!A15 -> Drury_8 | B16: ='Total project cost for DCs'!A15 -> 8 | C16: ='Total project cost for DCs'!B15 -> Fielding Rd upgrades ( from Waihoehoe Rd to development boundary ) | D16: ='Total project cost for DCs'!C15 -> 2-lane urban - upgrade existing road layout with active modes on both sides | E16: ='Total project cost for DCs'!D15 -> Include | F16: ='Total project cost for DCs'!E15 -> Upgrade Collector | G16: ='Total project cost for DCs'!F15 -> 2036 | H16: 0 | I16: 0 | J16: 0 | K16: 0 | L16: 0 | M16: =IF($E16="Include",SUMIFS(Lnd8_Mitigation!AS:AS,Lnd8_Mitigation!A:A,$A16),0) -> 0 | N16: =L16+M16 -> 0 | O16: =IF($E16="Include",Con3_ClientCosts!O16,0) -> 5393233.7 | P16: =IF($E16="Include",Con4_Contigency!K16-Con3_ClientCosts!O16,0) -> 2696616.8 | Q16: =IF($E16="Include",Con6_EscalatedConst!AP16-Con4_Contigency!K16,0) -> 3470646 | R16: =O16+P16+Q16 -> 11560496 | S16: =IF($E16="Include",Con6_Mitigation!AN16-Con6_EscalatedConst!AP16,0) -> -10982472 | T16: =R16+S16 -> 578024.82 | U16: =+R16+L16 -> 11560496 | V16: =+T16+N16 -> 578024.82 | W16: =Con7_Renewal!AN16-Con6_Mitigation!AN16 -> 0 | X16: =IF(E16="Include",Prj1_GrowthLOSCost!AR16,0) -> 578024.82 | Y16: =('Total project cost for DCs'!AT15+'Total project cost for DCs'!AU15)*-1 -> 0 | Z16: =+X16-AA16+Y16 -> 25341.569 | AA16: =SUMIFS('LTP_for DC_model'!AG:AG,'LTP_for DC_model'!A:A,B16)+SUMIFS(Beyond_LTP_for_DC_model!AM:AM,Beyond_LTP_for_DC_model!A:A,B16) -> 552683.26
... A112: ="Drury_"&'Total project cost for DCs'!A111 -> Drury_70 | B112: ='Total project cost for DCs'!A111 -> 70 | C112: ='Total project cost for DCs'!B111 -> walk/cycle bridges on GSR Road bridge over the rail corridor | D112: ='Total project cost for DCs'!C111 -> New cycle bridge 5m wide, 80m long, approach lengths 270m total for both sides. No property required | E112: ='Total project cost for DCs'!D111 -> Include | F112: ='Total project cost for DCs'!E111 -> Major Infrastructure | G112: ='Total project cost for DCs'!F111 -> 2031 | H112: 1236.9628 | I112: 371.08883 | J112: 500.5 | K112: 980.52546 | L112: 3089.0771 | M112: =IF($E112="Include",SUMIFS(Lnd8_Mitigation!AS:AS,Lnd8_Mitigation!A:A,$A112),0) -> 0 | N112: =L112+M112 -> 3089.0771 | O112: =IF($E112="Include",Con3_ClientCosts!O112,0) -> 3825206.5 | P112: =IF($E112="Include",Con4_Contigency!K112-Con3_ClientCosts!O112,0) -> 1912603.3 | Q112: =IF($E112="Include",Con6_EscalatedConst!AP112-Con4_Contigency!K112,0) -> 1300831.1 | R112: =O112+P112+Q112 -> 7038640.9 | S112: =IF($E112="Include",Con6_Mitigation!AN112-Con6_EscalatedConst!AP112,0) -> 0 | T112: =R112+S112 -> 7038640.9 | U112: =+R112+L112 -> 7041730 | V112: =+T112+N112 -> 7041730 | W112: =Con7_Renewal!AN112-Con6_Mitigation!AN112 -> 0 | X112: =IF(E112="Include",Prj1_GrowthLOSCost!AR112,0) -> 7040479.6 | Y112: =('Total project cost for DCs'!AT111+'Total project cost for DCs'!AU111)*-1 -> -3590644.6 | Z112: =+X112-AA112+Y112 -> 692331.3 | AA112: =SUMIFS('LTP_for DC_model'!AG:AG,'LTP_for DC_model'!A:A,B112)+SUMIFS(Beyond_LTP_for_DC_model!AM:AM,Beyond_LTP_for_DC_model!A:A,B112) -> 2757503.7
H114: =SUM(H5:H112) -> 1.1321978e+08 | I114: =SUM(I5:I112) -> 33965933 | J114: =SUM(J5:J112) -> 2.2185618e+08 | K114: =SUM(K5:K112) -> 6.3248205e+08 | L114: =SUM(L5:L112) -> 1.0015239e+09 | M114: =SUM(M5:M112) -> -3.5216863e+08 | N114: =SUM(N5:N112) -> 6.4935531e+08 | O114: =SUM(O5:O112) -> 6.7811329e+08 | ... AA114: =SUM(AA5:AA112) -> 7.3063222e+08

Sheet I1 Assumptions
A1: Cost Assmptions and Allowances
A3: Date and soure of cost estimates as shown below.
A4: Cost allowances have been prepared in accordance with the requirements of the Cost Estimation Manual (CEM which can be found at https://www.nzta.govt.nz/resources/cost-estimation-manual/) for preparation of a Programme Business Case Estimate (PBE).
A5: The costs reflect the Expected Estimate as defined in the CEM for a programme level Business Case (PBE).
A7: Allowance Category | B7: Allowance | C7: Applies to | D7: Rate | E7: Date Rate Assessed | F7: Rate baselined to current Year for model | G7: Escalation | H7: Source/Description
A8: Current Year for costs | F8: 2024
A9: Property Cost Allowances | B9: Lease cost % of land cost | C9: All leases | D9: 0.07 | E9: 44995 | F9: =D9 -> 0.07 | G9: Land Escalation (as part of lease cost) | H9: Estimated leases cost as a % of land cost. Rate based on experience.
A10: Property Cost Allowances | B10: Property contingency factor | C10: All property | D10: 0.3 | E10: 44995 | F10: =D10 -> 0.3 | G10: Land Escalation (as part of property cost) | H10: A contingency is required for cost estimation in accordance with the CEM to provide for uncertainty in relation to the estimate inputs and specific project related threats and opportunities with a cost impact.Transport property cost allowances for Drury include a 15 per cent contingency for the property valuation and an additional 15 per cent for the uncertainty in project scope.
A11: Property Cost Allowances | B11: Property risk factor | C11: N/A | D11: 0 | E11: 44995 | F11: =D11 -> 0 | G11: Land Escalation (as part of property cost)
A12: Public Works Act (PWA) Transaction Costs | B12: Total | C12: Full Acquisitions | D12: 80000 | E12: 2020 | F12: =D12*'I2 Escalation factors'!$G$12 -> 102138.55 | G12: Construction Rate | H12: The PWA entitles owners of land "reasonable" compensation for costs incurred for legal representation, valuations and moving. PWA Transaction Csts inclue allowances for: = legal costs ($50k for full and partial acqusitions; $15k for leases) =section 72 compensation. Section s72 provides additional compensation where a dwelling on the property is used as a primary residence. It allows compenstation of up to $50,000 for full aquisition. For partial aquisition, compensation is assessed as 10% of the land value, up to a maximum of $25,000. PWA compensation limits are reviewed periodically and may increase before the land is aquired. We have therefore assumed (based on experience) a flat $45,000 allowance for all full aquisition. We have assessed s72 costs for partial acquisitions based on the escalated land price. No escalation has been otherwise applied to these transactions
A13: Public Works Act (PWA) Transaction Costs | B13: Total (Excluding s72 compensation below) | C13: Partial Acquisitions | D13: 110000 | E13: 2020 | F13: =D13*'I2 Escalation factors'!$G$12 -> 140440.51 | G13: Construction Rate
A14: Public Works Act (PWA) Transaction Costs | B14: Total | C14: Temporary Leases | D14: 22000 | E14: 2020 | F14: =D14*'I2 Escalation factors'!$G$12 -> 28088.102 | G14: Construction Rate
A15: Public Works Act (PWA) Transaction Costs | B15: S72 compensation for primary residence | C15: Partial Acquisitions of land used as primary residence with value < $250,000 | D15: 0.1 | E15: 2020 | F15: =D15 -> 0.1 | G15: None
A16: Public Works Act (PWA) Transaction Costs | B16: S72 compensation for primary residence | C16: Partial Acquisitions of land used as primary residence with value >= $250,000 | D16: 25000 | E16: 2020 | F16: =D16 -> 25000 | G16: None
A17: Public Works Act (PWA) Transaction Costs | B17: S72 compensation for primary residence | C17: Full Acquisitions | D17: 45000 | E17: 2020 | F17: =D17 -> 45000
A18: PWA Injurious Affection Allowancefor partial acqusition | B18: Injurious Affection Risk level : | C18: High | D18: 0.3 | E18: 2020 | F18: =D18 -> 0.3 | G18: Land Escalation (as part of property cost) | H18: In some cases, primarily where we are acquiring part of a property, we may need to pay an additional amount to compensate an owner for negative effects the project will have on their remaining land. This is known as Injurious Affection (IA), and needs to be considered for all partial land acquisitions. The amount is often subjective and often agreement is not reached with the landowner, resulting in matters being determined by the Land Valuation Tribunal (LVT). Project cost estimates for Drury are based on the risk assessment, and do not include any additional factors/costs for LVT hearings The level of allowance applied reflects the relative level of risk of these costs being incurred for specific projects. The table shows the assessed risk profile for Drury based on greenfield developments. Due to the early stage of project planning, it is not possible to assess risks for individual properties. Instead the medium risk profile has been assumed for all permanent partial land aquisitions. It is escalated for land zone and land aquisition price escalation
A19: PWA Injurious Affection Allowancefor partial acqusition | B19: Injurious Affection Risk level : | C19: Medium | D19: 0.2 | E19: 2020 | F19: =D19 -> 0.2 | G19: Land Escalation (as part of property cost)
A20: PWA Injurious Affection Allowancefor partial acqusition | B20: Injurious Affection Risk level : | C20: Low | D20: 0.1 | E20: 2020 | F20: =D20 -> 0.1 | G20: Land Escalation (as part of property cost)
A21: PWA Injurious Affection Allowancefor partial acqusition | B21: Injurious Affection Risk level : | C21: None | D21: 0 | E21: 2020 | F21: =D21 -> 0 | G21: Land Escalation (as part of property cost)
A22: PWA Injurious Affection Allowancefor partial acqusition | B22: Injurious Affection Risk level : | C22: Default | D22: =D19 -> 0.2 | E22: 2020 | F22: =D22 -> 0.2 | G22: Land Escalation (as part of property cost)
A23: Land acquisition timing assumption | B23: Land Acquisition occurs: | C23: 2 | F23: =C23 -> 2 | H23: Construction year is provided on Project List. From experience, permanent land acqusitions occur in the three years leading up to start pf physical works. An average of 2 years before construction has therefore been used as the assumed acqusition date for property in the model. Where a property is required for multiple projects, the aqusition is assumed to occur two years prior to earliest project construction year
A24: Land acquisition timing assumption | B24: project Development and Pre-implentation work occurs: | C24: 1 | F24: =C24 -> 1 | H24: See Client Managed Costs below
A25: Land acquisition timing assumption | B25: Temporary Leases incurred only in construction year | C25: 0 | F25: =C25 -> 0
A26: Physical Works Cost Allowances | B26: Environmental Compliance allowance | C26: All | D26: 0.06 | E26: 2024 | F26: =D26 -> 0.06 | G26: Costruction Escalation as part of PW Costs | H26: Management of environmental compliance requirements, preparation and management of compliance management plans, construction of permanent erosion and sediment control measures, maintenance and monitoring, noise attenuation and earthworks bunds. | I26: % applied to (Base PW cost +Traffic Management & Temporary Works Allowance)
A27: Physical Works Cost Allowances | B27: Traffic Management & Temporary Works | C27: No Traffic Management | D27: 0 | E27: 2024 | F27: =D27 -> 0 | G27: Costruction Escalation as part of PW Costs | H27: Implementation of traffic management plans, public notification, lane changeovers, road diversions, temporary roads, plant, and equipment hire costs, temporary construction. Note that Traffic management rates used are as per the Trafiic Management Coloumn on the Project Inout tab, rather than derived from this table | I27: % applied to Base PW cost
A28: Physical Works Cost Allowances | B28: Traffic Management & Temporary Works | C28: Greenfields | D28: 0.02 | E28: 2024 | F28: =D28 -> 0.02 | G28: Costruction Escalation as part of PW Costs
A29: Physical Works Cost Allowances | B29: Traffic Management & Temporary Works | C29: Brownfields | D29: 0.13 | E29: 2024 | F29: =D29 -> 0.13 | G29: Costruction Escalation as part of PW Costs
A30: Physical Works Cost Allowances | B30: Traffic Management & Temporary Works | C30: Brownfields intersection | D30: 0.2 | E30: 2024 | F30: =D30 -> 0.2 | G30: Costruction Escalation as part of PW Costs
A31: Physical Works Cost Allowances | B31: Preliminary and general (P&G) allowance | C31: All | D31: 0.25 | E31: 2024 | F31: =D31 -> 0.25 | G31: Costruction Escalation as part of PW Costs | H31: Site establishment, operation, disestablishment, and clean-up; site management, bonds, and insurances, preparing and maintaining quality, health & safety, security, temporary erosion and sediment control, temporary traffic management plans, programming, and reporting. | I31: % applied to (Base PW cost +Traffic Management & Temporary Works + Environmental Compliance Allowances )
A32: Physical Works Cost Allowances | B32: Contingency rate | C32: All | D32: 0.5 | E32: 2024 | F32: =D32 -> 0.5 | G32: Costruction Escalation as part of PW Costs | H32: A contingency is required for cost estimation in accordance with the CEM and is added to the ‘Base Estimate’ to provide for uncertainty in relation to the estimate inputs and specific project related threats and opportunities with a cost impact. For the DIFF programme, the cost estimates have been developed using linear rates and proportional assessment of earlier cost estimates prepared for the Drury Arterial Network DBC. Therefore, they reflect a programme wide approach where the specific scope and extent of works is undefined, resulting in significant uncertainty in quantities. Therefore, the physical works cost allowances for the updated DIFF programme’ include a 40% contingency, reflecting the uncertainty in the final form of the projects. | I32: % applied to (Base PW cost +Traffic Management & Temporary Works + Environmental Compliance + P&G Allowances )
A33: Physical Works Cost Allowances | B33: Funding Risk Contingency | C33: All | D33: 0 | E33: 2024 | F33: =D33 -> 0 | G33: Costruction Escalation as part of PW Costs
A34: Client Managed Costs | H34: Client managed costs are incurred throughout the project lifecycle and would vary depending on each project. Basic elements that make up Client Managed Costs include: • Reviews: Economics Peer Review, Cost Estimate Peer Review / Parallel Estimate, Technical Peer Reviews, Constructability Review, O&M Review, Road Safety Audit • Investigations: Geotechnical Investigations, Utility Location, Pavement Investigations • Third Party Physical Works: Enabling Works such as utilities • Communications and Engagement: Open Days, Production of Engagement Collateral, Iwi Engagement, Communications Consultant • Third Party Professional Services: Procurement Support, Property acquisition support, Investigation and Design, Specialist Advisors, Legal Review, Engineer to Contract, etc • Consenting: Council lodgement and hearing fees, Environment Court / EPA Costs, Legal Advice, Consent Monitoring by Council, Building Consent • Post Construction Monitoring: Noise Monitoring, Traffic counts, speed surveys, consent conditions • Miscellaneous Costs: Insurances, Procurement Disbursements, Statutory Compliance, Revocation costs
A35: Client Managed Cost allowances | B35: Project Development allowance | C35: Pre-implementation | D35: 0.02 | E35: 2024 | F35: =D35 -> 0.02 | H35: Preliminary design, Implementation Business case, Investigations, Engagment | I35: Each calc is % applied to (Base PW cost +Traffic Management & Temporary Works + Environmental Compliance + P&G Allowances ). Project Development & Pre-implementation costs are assumed to be incurred in the year before construction. Escalated at Construction rate
A36: Client Managed Cost allowances | B36: Pre-Implementation allowance | C36: Pre-implementation | D36: 0.09 | E36: 2024 | F36: =D36 -> 0.09 | H36: Speciman/Details Desgn/Investigations,Statutory Applications
A37: Client Managed Cost allowances | B37: Implementation allowance | C37: Construction | D37: 0.09 | E37: 2024 | F37: =D37 -> 0.09 | H37: Procurment, Construction Monitoring & Supervision

Sheet I2 Escalation factors
A1: Date | B1: 45413 | D1: Source: | E1: Chief Economist Unit
A3: Financial year | C3: 2020 | D3: =+C3+1 -> 2021 | E3: =+D3+1 -> 2022 | F3: =+E3+1 -> 2023 | G3: =+F3+1 -> 2024 | H3: =+G3+1 -> 2025 | I3: =+H3+1 -> 2026 | J3: =+I3+1 -> 2027 | K3: =+J3+1 -> 2028 | ... AR3: =+AQ3+1 -> 2061
A4: Construction escalation rate | C4: 0 | D4: 0.031 | E4: 0.127 | F4: 0.068 | G4: 0.02883537 | H4: 0.027642776 | I4: 0.028718375 | J4: 0.029835826 | K4: 0.031 | L4: 0.031 | M4: 0.031 | N4: 0.031 | O4: 0.031 | P4: 0.031 | Q4: 0.031 | R4: 0.031 | S4: 0.031 | T4: 0.031 | U4: 0.031 | V4: 0.031 | W4: 0.031 | X4: 0.031 | Y4: 0.031 | Z4: 0.031 | AA4: 0.031 | AB4: 0.031 | AC4: 0.031 | AD4: 0.031 | AE4: 0.031 | AF4: 0.031 | AG4: 0.031 | AH4: 0.031 | AI4: 0.031 | AJ4: 0.031 | AK4: 0.031 | AL4: 0.031 | AM4: 0.031 | AN4: 0.031 | AO4: 0.031 | AP4: 0.031 | AQ4: 0.031 | AR4: 0.031
A5: Compounded Construction rate from 2024 | C5: 1 | D5: 1 | E5: 1 | F5: 1 | G5: 1 | H5: =+G5*(1+H4) -> 1.0276428 | I5: =+H5*(1+I4) -> 1.057155 | J5: =+I5*(1+J4) -> 1.0886961 | K5: =+J5*(1+K4) -> 1.1224457 | L5: =+K5*(1+L4) -> 1.1572415 | M5: =+L5*(1+M4) -> 1.193116 | N5: =+M5*(1+N4) -> 1.2301026 | O5: =+N5*(1+O4) -> 1.2682358 | ... AR5: =+AQ5*(1+AR4) -> 3.0739818
A6: Land acquisition price escalation rate | C6: 0 | D6: 0 | E6: 0.042 | F6: -0.090180899 | G6: 0.027534862 | H6: 0.041690627 | I6: 0.050786641 | J6: 0.06369936 | K6: 0.071 | L6: 0.071 | M6: 0.071 | N6: 0.071 | O6: 0.071 | P6: 0.071 | Q6: 0.071 | R6: 0.071 | S6: 0.071 | T6: 0.071 | U6: 0.071 | V6: 0.071 | W6: 0.071 | X6: 0.071 | Y6: 0.071 | Z6: 0.071 | AA6: 0.071 | AB6: 0.071 | AC6: 0.071 | AD6: 0.071 | AE6: 0.071 | AF6: 0.071 | AG6: 0.071 | AH6: 0.071 | AI6: 0.071 | AJ6: 0.071 | AK6: 0.071 | AL6: 0.071 | AM6: 0.071 | AN6: 0.071 | AO6: 0.071 | AP6: 0.071 | AQ6: 0.071 | AR6: 0.071
A7: Financial year | C7: 2020 | D7: =+C7+1 -> 2021 | E7: =+D7+1 -> 2022 | F7: =+E7+1 -> 2023 | G7: =+F7+1 -> 2024 | H7: =+G7+1 -> 2025 | I7: =+H7+1 -> 2026 | J7: =+I7+1 -> 2027 | K7: =+J7+1 -> 2028 | ... AR7: =+AQ7+1 -> 2061
A8: LPR_escalation | B8: Compounded rate from FY24 | C8: 1 | D8: 1 | E8: 1 | F8: 1 | G8: 1 | H8: =+G8*(1+H6) -> 1.0416906 | I8: =+H8*(1+I6) -> 1.0945946 | J8: =+I8*(1+J6) -> 1.1643196 | K8: =+J8*(1+K6) -> 1.2469863 | L8: =+K8*(1+L6) -> 1.3355223 | M8: =+L8*(1+M6) -> 1.4303444 | N8: =+M8*(1+N6) -> 1.5318988 | O8: =+N8*(1+O6) -> 1.6406636 | ... AR8: =+AQ8*(1+AR6) -> 11.992624
H9: =H5*Con_2020_Escalation -> 1.3120243 | I9: =I5*Con_2020_Escalation -> 1.3497036 | J9: =J5*Con_2020_Escalation -> 1.3899731 | K9: =K5*Con_2020_Escalation -> 1.4330622 | L9: =L5*Con_2020_Escalation -> 1.4774872 | M9: =M5*Con_2020_Escalation -> 1.5232893 | N9: =N5*Con_2020_Escalation -> 1.5705112 | O9: =O5*Con_2020_Escalation -> 1.6191971 | ... V9: =V5*Con_2020_Escalation -> 2.0049815
A10: Rates Compounded from Earlier Years to Current Year
B11: From Year | H11: Lookup_Variable Name
A12: Compounded Construction rate from 2020 to 2024 | B12: 2020 | C12: 1 | D12: =+C12*(1+D4) -> 1.031 | E12: =+D12*(1+E4) -> 1.161937 | F12: =+E12*(1+F4) -> 1.2409487 | G12: =+F12*(1+G4) -> 1.2767319 | H12: Con_2020_Escalation
A13: Compounded Construction rate from 2021 to 2024 | B13: 2021 | C13: 1 | D13: 1 | E13: =+D13*(1+E4) -> 1.127 | F13: =+E13*(1+F4) -> 1.203636 | G13: =+F13*(1+G4) -> 1.2383433 | H13: Con_2021_Escalation
A14: Compounded Land Price rate from 2021 to 2024 | B14: 2021 | C14: 1 | D14: =+C14*(1+D6) -> 1 | E14: =+D14*(1+E6) -> 1.042 | F14: =+E14*(1+F6) -> 0.9480315 | G14: =+F14*(1+G6) -> 0.97413542 | H14: Land_2021_Escalation
A16: HistoricConstructEscalation
A17: Category | B17: 2020 | C17: 2021 | D17: 2024
A18: Construction | B18: =Con_2020_Escalation -> 1.2767319 | C18: =Con_2021_Escalation -> 1.2383433 | D18: 1
A20: Land_RID_Escalation | B20: =Land_2021_Escalation -> 0.97413542
A48: Financial year | C48: 2020 | D48: =+C48+1 -> 2021 | E48: =+D48+1 -> 2022 | F48: =+E48+1 -> 2023 | G48: =+F48+1 -> 2024 | H48: =+G48+1 -> 2025 | I48: =+H48+1 -> 2026 | J48: =+I48+1 -> 2027 | K48: =+J48+1 -> 2028 | ... AR48: =+AQ48+1 -> 2061
A49: Compounded Land Esc rate from FY24 | C49: 1 | D49: 1 | E49: 1 | F49: 1 | G49: 1 | H49: 1.0507866 | I49: 1.1177211 | J49: 1.1970793 | K49: 1.2820719 | L49: 1.373099 | M49: 1.470589 | N49: 1.5750009 | O49: 1.6868259 | P49: 1.8065906 | Q49: 1.9348585 | R49: 2.0722334 | S49: 2.219362 | T49: 2.3769367 | U49: 2.5456992 | V49: 2.7264439 | W49: 2.9200214 | X49: 3.1273429 | Y49: 3.3493843 | Z49: 3.5871905 | AA49: 3.8418811 | AB49: 4.1146546 | AC49: 4.4067951 | AD49: 4.7196775 | AE49: 5.0547747 | AF49: 5.4136637 | AG49: 5.7980338 | AH49: 6.2096942 | AI49: 6.6505825 | AJ49: 7.1227738 | AK49: 7.6284908 | AL49: 8.1701136 | AM49: 8.7501917 | AN49: 9.3714553 | AO49: 10.036829 | AP49: 10.749443 | AQ49: 11.512654 | AR49: 12.330052

Sheet I3 Project list
A1: Review Date: | I1: Data Source: | J1: 44994 | P1: =P43*Q43 -> 0 | Q1: Date DBc Costs assessed: | T1: =Q6*0.65 -> 4960373.5
I3: Andrew Murray's 2022 assessment | J3: Dury DC Analysis Update_v25.xlsx Tab: Project Schedule Col M DC Timing (2023) | O3: No longer used | Q3: 43891 | R3: for Diff projects | T3: Check against diff report | AI3: Rob Mason
A4: Location | B4: Project number | C4: Project ID | D4: Project name | E4: Project Description | F4: Project Scope | G4: Include in DC model | H4: Reasoning for inclusion/exclusion | I4: Operational Date: Initial Transport Assessment date | J4: Construction Date: Revised Transport Assessment Date Adopted 2023 | K4: Rational for Date- triggers, or supporting document | L4: Corridor Type (determines if WK Funding subsidy applied ) | M4: Current corridor designation status (Designated, NOR, None) | N4: Source of Land/Construction cost estimate | O4: Land Cost Estimate (excl escalation) | P4: % of Land Cost to be included in model | Q4: DBC Construction Cost Estimate (excl allowances & escalation) | R4: % DBC Cost Estimate for Council | S4: DBC Cost assessmnt year | T4: Cost estimate inc allowances | U4: Length of Linear Rate 1 | V4: Length of Linear Rate 2 | W4: Length of Linear Rate 3 | X4: Bridge Area (m2) | Y4: Roundabout 2-lane | Z4: Roundabout 4-lane | AA4: New Signals simple | AB4: New Signals complex | AC4: 2-lane interim | AD4: E/O for future 4-lane | AE4: Greenfields 4 lane rate 4 | AF4: Brownfields 4-lane rate 5 | AG4: 2-lane Rate 6 | AH4: footpath retrofit | AI4: Traffic Mangement Category | AJ4: Transport corridor/intersection before project: | AK4: Scope and assumptions in previous DC assessment | AL4: NZUP project engineering/scope assumptions within project extent | AM4: Changes to DC assumptions/scope | AN4: Revised DC assumptions/scope
A5: Drury | B5: 1a | C5: =A5 & "_" &B5 -> Drury_1a | D5: GSR improvements - Waihoehoe Rd to Drury Interchange | E5: 2-lane urban- existing road layout with active modes on both sides + intersection improvements (TDM) | G5: Exclude | J5: 2024 | L5: Interim Arterial | N5: Assessed | Q5: 0 | R5: 0 | T5: No | U5: 0 | V5: 0 | W5: 0 | X5: 0 | Y5: 0 | Z5: 0 | AA5: 1 | AB5: 0 | AC5: 0 | AD5: 0 | AE5: 0 | AF5: 0 | AG5: 0 | AH5: 0 | AI5: Brownfields | AJ5: 2-lane urban with kerbline along some of the extents. Crosses Hingaia Stream. | AK5: - Linear rate 1 for ‘Roadside Berm Construction’ for the addition of separated footpath and cycleway on each side. This has been applied over a length of 810m to reflect an upgrade to both sides of the road. - New pedestrian bridge added to both sides of the Hingaia Stream Bridge. Each shared path bridge is 40m long and 3m wide. - Signalisation of the Firth St intersection – included as a Simple Signalised intersection. | AL5: Overlap with crossing to access train station in Drury Rail Stations Drury Central - VM - Stage 1 design. Partial overlap with Waihoehoe Road Upgrade design on approach to GSR/Waihoehoe Rd intersection. Assume extents of 1a end at the start of LT bay indicated in Waihoehoe Rd Upgrade design. Drury Rail Stations Drury Central - VM - Stage 1: design indicates new kerbline at midblock crossing on both sides to accommodate crossing facilities, bus stops and active mode improvements. Assume 80m linear rate 1 on western side, and 70m linear rate 1 on eastern side. NZUP will provide bi-directional active mode facility on North/West side of Great South Road including parallel bridge at same level as current road one. There will be minimal kerb and channel work and Firth St will not be signalised. Therefore, almost all of previous assumptions superseded by NZUP design besides Firth St signals. | AM5: It is accepted that provision of a shared path with kerb and channel on one side of the road will suffice for an interim option. Therefore linear rates for berm upgrades can be removed from the assessment. A Shared path bridge is provided on one side to support the shared path. Therefore no interim bridge works are required. The NZUP project does not include signalisation of the Firth Street intersection, so this is required in the interim option. | AN5: Signalisation of the Firth St intersection – included as a ‘Simple Signalised intersection. | AO5: no
A6: Drury | B6: 1b | C6: =A6 & "_" &B6 -> Drury_1b | D6: GSR improvements - Waihoehoe Rd to Drury Interchange | E6: 4-lane urban- existing road layout with active modes on both sides + intersection improvements (TDM) | G6: Include | I6: 2036 | J6: 2031 | L6: 4-lane arterial | N6: Assessed | Q6: 7631343.9 | R6: 1 | S6: 2020 | T6: No | U6: 0 | V6: 0 | W6: 0 | X6: 0 | Y6: 0 | Z6: 0 | AA6: 0 | AB6: 0 | AC6: 0 | AD6: 0 | AE6: 0 | AF6: 0 | AG6: 0 | AH6: 0 | AI6: Brownfields | AJ6: Extents from GSR/Waihoehoe Rd intersection to Drury Interchange. 2-lane urban with kerb and channel with active modes. Crosses Hingaia Stream with active mode bridges alongside road bridge. | AK6: Cost based on measure and value of set of prelim design drawings by Te Tupu Ngātahi. Assumes new pavement, berm, bridge across Hingaia Stream, allowance for upgrade up to GSR/Waihoehoe intersection. The length that the cost estimate considered was longer than the actual project length, as some of the extents included within the cost estimate were assumed to be constructed as part of the NZUP SH1 Papakura to Drury project at the SH1 interchange. 60% of cost of full buildout works assumed for full 4-lane to account for reduced length of design relative to cost estimate as well as portion of retained works from interim. | AL6: Crossing to rail station from Drury Rail Stations Drury Central - VM - Stage 1 design is likely to be reconstructed, alongside kerblines in design. Waihoehoe Rd Upgrade accounts for 4-lanes at tie-in, although this tapers to 2-lanes. Assume 4-lane extent up to intersection is included within 9a rather than 1b. Kerblines within extents of 1a near this intersection are likely to be reconstructed to accommodate 4-lanes. There will be few components retained from NZUP projects, besides minor length near GSR/Waihoehoe intersection, of which little will be retained as new kerb and channel are likely to be reconstructed on both sides. As the scale of works for 1a is reduced from its previous assumption, it is assumed that additional works at the bridge across Hingaia Stream will be required to reach the ultimate form for 1b. Therefore, higher rate than cost report (65% of cost of full 4-lane buildout works). | AM6: Increase from 60% to 65% of measure and value cost for prelim design drawings. | AN6: 65% of cost of full buildout works previously assumed for full 4-lane. | AO6: no
A7: Drury | B7: 2a | C7: =A7 & "_" &B7 -> Drury_2a | D7: GSR improvements - From Drury School to Waihoehoe Rd | E7: 2-lane urban- existing road layout with active modes on both sides + intersection improvements (TDM) | G7: Include | I7: 2030 | J7: 2030 | L7: Interim Arterial | N7: Assessed | Q7: 0 | R7: 0 | T7: No | U7: 1140 | V7: 0 | W7: 0 | X7: 0 | Y7: 0 | Z7: 0 | AA7: 0 | AB7: 0 | AC7: 0 | AD7: 0 | AE7: 0 | AF7: 0 | AG7: 0 | AH7: 80 | AI7: Brownfields | AJ7: 2-lane urban arterial with kerbline for almost entire extent. | AK7: Active mode facilities extend 600m from northern boundary of Drury School site. - Linear rate for ‘Roadside Berm Construction’ for the addition of separated footpath and cycleway on each side. This has been applied over a length of 1200m to reflect an upgrade to both sides of the road. - Signalisation of the Great South Road/ Waihoehoe Road intersection – included as a ‘Simple Signalised intersection | AL7: Overlap with Waihoehoe Rd Upgrade Design on northern leg of intersection. Assume extents of 2a extend to start of RT bay in Waihoehoe Rd Upgrade design. Waihoehoe Rd Upgrade western side: design indicates new kerbline, footpath and retaining structure on western side of road, although retaining structure is within the extents of the intersection (9a). 20m linear rate 1 for new kerbline/footpath on western side within extents of 2a. Waihoehoe Rd Upgrade eastern side: design indicates new footpath on eastern side of road, and new kerb and channel where the road transitions from one lane to 2 on approach to intersection. 40m footpath retrofit for new footpath, 40m linear rate 1 for new kerb and channel. Waihoehoe Rd Upgrade design does not indicate any cycle facilities within the extents of 2a. Limited space on western side due to retaining structure, assume no cycle facilities to be implemented on western side near intersection, and these will begin on western side outside of the extents of the Waihoehoe Rd Upgrade design. 80m footpath retrofit rate included in 2a (not NZUP) for cycle facilities on eastern side. | AM7: All linear rate 1 that has been assumed for NZUP project design overlaps with the linear rate 1 extents originally assumed in DC model, therefore reduce original assumptions by 20+40 = 60m. Some kerbline in NZUP design does not include cycle facilities, add footpath retrofit rate for 80m. Signalisation of GSR/Waihoehoe Rd intersection is excluded, as the intersection upgrades will be included within the extents of 9a. | AN7: - Linear rate 1 for ‘Roadside Berm Construction’ for the addition of separated footpath and cycleway on each side. This has been applied over a length of 1140m to reflect an upgrade to both sides of the road. - Footpath retrofit for 80m for additional cycle facilities | AO7: no
A8: Drury | B8: 2b | C8: =A8 & "_" &B8 -> Drury_2b | D8: GSR improvements - From Drury School to Waihoehoe Rd | E8: 4-lane urban- existing road layout with active modes on both sides + intersection improvements (TDM) | G8: Exclude - NZTA | I8: 2034 | J8: 2040 | L8: 4-lane arterial | N8: Assessed | Q8: 0 | R8: 0 | T8: No | U8: 0 | V8: 0 | W8: 0 | X8: 0 | Y8: 0 | Z8: 0 | AA8: 0 | AB8: 0 | AC8: 0 | AD8: 0 | AE8: 0 | AF8: 0 | AG8: 0 | AH8: 0 | AI8: Brownfields | AJ8: 2-lane urban with active mode facilities on both sides for almost the entire length, as is outlined in 2a. | AK8: Previous DC cost report assumptions: - Linear rate for ‘4-lane transport corridor brownfields’ for the reconstruction of the existing road and provision of a full width 4-lane corridor with active modes on each side. This has been applied over the full length of 600m. - Upgrade of the Great South Road/ Waihoehoe Road intersection which was signalised as part of the interim works – included as a ‘Simple Signalised intersection'. However, this form is superseded by the recent SGA business case that identifies this a a 3-lane corridor with a bus lane in the northbound direction through this section. | AL8: Overlap with Waihoehoe Rd Upgrade design on northern leg of intersection. Northern leg design considers road space for future 2-lane northbound exit, so the costs will be minimal to transition this to a 3-lane bus priority corridor. Assume extents continue to start of RT bay at tie in, same as for 2a. As corridor is to be 3-lanes with northbound bus lane only, assume the interim project (2a) provides kerb and channel in the correct location so that implementation of the bus lane is a simple line marking exercise on top of the interim form. Therefore, assume any costs associated with 2b are very minimal and therefore 2b can be excluded from the DC model. | AM8: Removal of all previous DC cost assumptions: - Linear rate for ‘4-lane transport corridor brownfields’ for the reconstruction of the existing road and provision of a full width 4-lane corridor with active modes on each side. This has been applied over the full length of 600m. - Upgrade of the Great South Road/ Waihoehoe Road intersection which was signalised as part of the interim works – included as a ‘Simple Signalised intersection'. | AN8: No significant works required for 2b, no cost included in DC. | AO8: no
A9: Drury | B9: 3 | C9: =A9 & "_" &B9 -> Drury_3 | D9: Intersection upgrade on GSR/Karaka Rd intersection | E9: Intersection upgrades- existing intersection with active modes crossings (TDM) | G9: Exclude - NZTA | I9: 2030 | J9: 2026 | L9: 4-lane arterial | N9: Assessed | Q9: 0 | R9: 0 | T9: No | U9: 0 | V9: 0 | W9: 0 | X9: 0 | Y9: 0 | Z9: 0 | AA9: 0 | AB9: 0 | AC9: 0 | AD9: 0 | AE9: 0 | AF9: 0 | AG9: 0 | AH9: 0 | AI9: Brownfields | AJ9: Rural, unsignalised. | AK9: Simple signals rate assumed, includes active mode upgrades at intersection. | AL9: SH22 design indicates 4-lane signalised intersection with active mode improvements. Full overlap with SH22 design, assume project is excluded from DC model. | AM9: Removal of simple signals rate. | AN9: Full overlap with SH22 design, assume no signal rate included for DC. | AO9: no
A10: Drury | B10: 4a | C10: =A10 & "_" &B10 -> Drury_4a | D10: Waihoehoe Rd East upgrades- from Fitzgerald Rd to before Cossey Rd (development boundary) | E10: 2-lane urban - upgrade existing road layout with active modes on both sides, 20m cross-section | G10: Exclude | I10: 2031 | L10: 0 | N10: Assessed | Q10: 0 | R10: 0 | T10: No | U10: =2*900 -> 1800 | V10: 0 | W10: 0 | X10: 0 | Y10: 0 | Z10: 0 | AA10: 0 | AB10: 0 | AC10: 0 | AD10: 0 | AE10: 0 | AF10: 0 | AG10: 0 | AH10: 0 | AI10: Brownfields | AO10: yes
A11: Drury | B11: 4b | C11: =A11 & "_" &B11 -> Drury_4b | D11: Waihoehoe Rd East upgrades- from Fitzgerald Rd to before Cossey Rd (development boundary) | E11: Expand to 24m cross section | G11: Include | I11: 2032 | J11: 2029 | L11: 2-lane Arterial | N11: Assessed | Q11: 0 | R11: 0 | T11: No | U11: 0 | V11: 0 | W11: 0 | X11: 0 | Y11: 1 | Z11: 0 | AA11: 0 | AB11: 0 | AC11: 0 | AD11: 0 | AE11: 0 | AF11: 0 | AG11: =80%*900 -> 720 | AH11: 0 | AI11: Brownfields | AO11: yes
A12: Drury | B12: 4 | C12: =A12 & "_" &B12 -> Drury_4 | D12: Waihoehoe Rd East upgrades- from Fitzgerald Rd to before Cossey Rd (development boundary) | E12: Construct Ultimate 24m Cross section initially (i.e. no interim stage) | G12: Exclude | L12: 2-lane Arterial | N12: Assessed | Q12: =39.86*1000000 -> 39860000 | R12: 0.45 | S12: 2020 | T12: Yes | U12: 0 | V12: 0 | W12: 0 | X12: 0 | Y12: 0 | Z12: 0 | AA12: 0 | AB12: 0 | AC12: 0 | AD12: 0 | AE12: 0 | AF12: 0 | AG12: 0 | AH12: 0 | AI12: No Traffic Management | AO12: yes
A13: Drury | B13: 5 | C13: =A13 & "_" &B13 -> Drury_5 | D13: Drury Central Station | E13: Not feasible without access. Refer to item 6 below | G13: Exclude | I13: 2030 | J13: 2024 | L13: 0 | N13: Assessed | Q13: 0 | R13: 0 | T13: No | AI13: No Traffic Management | AO13: yes
A14: Drury | B14: 6 | C14: =A14 & "_" &B14 -> Drury_6 | D14: Drury Station Connection+ intersection | E14: NZUP tbc | G14: Exclude | I14: 2030 | J14: 2024 | L14: 0 | N14: Assessed | R14: 0 | T14: No | AI14: Brownfields | AO14: yes
A15: Drury | B15: 7 | C15: =A15 & "_" &B15 -> Drury_7 | D15: Fitzgerald Rd upgrades (from Waihoehoe Rd to development boundary) | E15: 2-lane urban - upgrade existing road layout with active modes on both sides | G15: Include | I15: 2033 | J15: 2033 | L15: Upgrade Collector | N15: Assessed | Q15: 0 | R15: 0 | T15: No | U15: 1200 | AI15: Brownfields | AO15: yes
A16: Drury | B16: 8 | C16: =A16 & "_" &B16 -> Drury_8 | D16: Fielding Rd upgrades ( from Waihoehoe Rd to development boundary ) | E16: 2-lane urban - upgrade existing road layout with active modes on both sides | G16: Include | I16: 2033 | J16: 2033 | L16: Upgrade Collector | N16: Assessed | Q16: 0 | R16: 0 | T16: No | U16: 1200 | AI16: Brownfields | AO16: yes
A17: Drury | B17: 9a | C17: =A17 & "_" &B17 -> Drury_9a | D17: Upgrade in Norrie Rd/GSR/Waihoehoe intersection | E17: 2-lane signalised intersection with active mode crossings | G17: Exclude - NZTA | I17: 2031 | J17: 2026 | L17: 2-lane Arterial | N17: Assessed | Q17: 0 | R17: 0 | T17: No | U17: 0 | V17: 0 | W17: 0 | X17: 0 | Y17: 0 | Z17: 0 | AA17: 0 | AB17: 0 | AC17: 0 | AD17: 0 | AE17: 0 | AF17: 0 | AG17: 0 | AH17: 0 | AI17: Brownfields | AJ17: Urban roundabout. | AK17: Complex signals rate assumed for full reconstruction to new form. | AL17: Waihoehoe Road Upgrade includes full signalisation to align with future FTN bus requirements. | AM17: NZUP project covers the entire extents of the previous DC assumption, Removal of complex signals rate as it is no longer required. | AN17: Full overlap with SH22 design, assume no signal rate included for DC. | AO17: no
A18: Drury | B18: 9b | C18: =A18 & "_" &B18 -> Drury_9b | D18: Upgrade in Norrie Rd/GSR/Waihoehoe intersection | E18: multi-lane signalised intersection with active mode crossings, SGA design | G18: Exclude - NZTA | I18: 2032 | J18: 2031 | L18: 4-lane arterial | N18: Assessed | Q18: =6.28*1000000 -> 6280000 | R18: 0 | S18: 2020 | T18: No | U18: 0 | V18: 0 | W18: 0 | X18: 0 | Y18: 0 | Z18: 0 | AA18: 0 | AB18: 0 | AC18: 0 | AD18: 0 | AE18: 0 | AF18: 0 | AG18: 0 | AH18: 0 | AI18: No Traffic Management | AJ18: Waihoehoe Rd Upgrade design - 2-lane signalised intersection. | AK18: 70% of cost from DBC assessment, accounting for retained facilities from interim. | AL18: Waihoehoe Road Upgrade includes full signalisation to align with future FTN bus requirements. | AM18: No cost associated with this project, reduction of 70% of DBC cost estimate to 0%. | AN18: No cost associated with this project as the works to upgrade to 4 lanes are minor. | AO18: no
A19: Drury | B19: 10a | C19: =A19 & "_" &B19 -> Drury_10a | D19: New intersection on Waihoehoe Rd/Fitzgerald Rd( including approach cross-sections) | E19: 2-lane signalised intersection with active mode crossings | G19: Include | I19: 2031 | J19: 2029 | K19: Adjusted to 2029 to push out land acquisition date (this project is 100% mitigation so no impact on on costs) | L19: 2-lane Arterial | N19: Assessed | Q19: 0 | R19: 0 | T19: No | AA19: 1 | AI19: Brownfields | AO19: yes
A20: Drury | B20: 10b | C20: =A20 & "_" &B20 -> Drury_10b | D20: New intersection on Waihoehoe Rd/Fitzgerald Rd( including approach cross-sections) | E20: multi-lane roundabout with active mode crossings, SGA design | G20: Include | I20: 2035 | J20: 2031 | L20: 4-lane arterial | N20: Assessed | Q20: 2500000 | R20: 1 | S20: 2020 | T20: No | AI20: Brownfields | AO20: yes
A21: Drury | B21: 11 | C21: =A21 & "_" &B21 -> Drury_11 | D21: Intersection upgrade Waihoehoe Rd/Fielding Rd/Appleby Rd | E21: Roundabout as per SGA design | G21: Include | I21: 2032 | J21: 2031 | L21: 2-lane Arterial | N21: Assessed | Q21: 0 | R21: 0 | T21: No | Y21: 1 | AI21: Brownfields | AO21: yes
A22: Drury | B22: 12 | C22: =A22 & "_" &B22 -> Drury_12 | D22: Interim walking, cycling and bus connections within Drury Centre (includes Bremner/Norrie/Firth Intersection upgrades, active mode on Norrie) -overlap with project 36 and 46 | E22: Intersection improvements on Bremner-Firth Rd, Norrie-Firth Rd, GSR-Firth Rd, Active mode facilities on both sides of Firth & Norrie Rd | G22: Include | I22: 2033 | J22: 2033 | L22: New Collector (AT) | N22: Assessed | Q22: 0 | R22: 0 | T22: No | AA22: 3 | AH22: 670 | AI22: Brownfields | AO22: yes
A23: Drury | B23: 13a | C23: =A23 & "_" &B23 -> Drury_13a | D23: N-S Opaheke Arterial across development (upto Waihoehoe Stream) | E23: 2-lane urban- new 2-lane arterial with active modes on both sides + intersection improvements (TDM) | G23: Include | I23: 2032 | J23: 2029 | L23: Interim 2-lane Arterial | N23: Assessed | Q23: 0 | R23: 0 | T23: No | AA23: 1 | AC23: 550 | AI23: Greenfields | AO23: yes
A24: Drury | B24: 13b | C24: =A24 & "_" &B24 -> Drury_13b | D24: N-S Opaheke Arterial across development (upto Waihoihoi Stream) | E24: 4-lane urban- upgrade 2-lane arterial with SGA design + intersection improvements (TDM) | G24: Include | I24: 2035 | J24: 2050 | L24: 4-lane arterial upgrade | N24: Assessed | Q24: 0 | R24: 0 | T24: No | AA24: 1 | AD24: 550 | AI24: Brownfields | AO24: yes
A25: Drury | B25: 14 | C25: =A25 & "_" &B25 -> Drury_14 | D25: Upgrade Brookefield Road from Fitzgerald to Quarry Rd+ New connection + Intersections on Quarry & Fitzgerald | E25: 2-lane urban (upgrade existing road layout with active modes on both sides + intersection improvements + new connection to Quarry Rd) | G25: Exclude | L25: Upgrade Collector | N25: Assessed | Q25: 0 | R25: 0 | T25: No | X25: =50*18 -> 900 | AA25: 2 | AG25: 700 | AI25: Brownfields | AO25: yes
A26: Drury | B26: 14a | C26: =A26 & "_" &B26 -> Drury_14a | D26: Western end of Brookefield Road Extension tie in with Quarry Rd | E26: 2-lane urban (New Road connection to Quarry Road with active modes on both sides + intersection improvements) | G26: Include | I26: 2035 | J26: 2035 | L26: New Collector (AT) | N26: Assessed | Q26: 0 | R26: 0 | T26: No | X26: =50*18 -> 900 | AA26: 1 | AG26: 170 | AI26: Brownfields | AO26: yes
